BEGIN:VCALENDAR
VERSION:2.0
PRODID:-//wp-events-plugin.com//7.1.2//EN
TZID:Asia/Tokyo
X-WR-TIMEZONE:Asia/Tokyo
BEGIN:VEVENT
UID:168@kekokai.or.jp
DTSTART;TZID=Asia/Tokyo;VALUE=DATE:20260503
DTEND;TZID=Asia/Tokyo;VALUE=DATE:20260504
DTSTAMP:20260412T040904Z
URL:https://kekokai.or.jp/events/%e4%ba%ac%e9%83%bd%e6%94%af%e9%83%a8%e6%b
 3%95%e5%ba%a7-8/
SUMMARY:京都支部法座
DESCRIPTION:12:00 AM - 【行事名】\n京都支部法座（岡田家家
 庭法座）\n\n【日 時】\n５月３日（日） PM 1:30 ～ 5:00\n\n
 【場 所】\n華光会館\n\n【講 師】\n増井 信 先生\n\n【参
 加資格／定員】\nどなたでもお参りください。事前申し
 込みは不要です。\n\n【Zoom配信】\nZoomでの参加を希望さ
 れる方は、下記のアドレスにお申し込み下さい。\n直前
 にパスワードと、資料がある場合はそのデータをお送
 りします。\n\nアメミヤ：keko.zoom@icloud.com\n\n【参加費】\
 n家庭法座なので参加費は必要ありませんが、お賽銭を
 お願いします。\n\n【問い合わせ先】\nカジタニ TEL：090-
 4299-4525\n\n【備考】\n午前10時～12時に「仏書に親しむ会
 」がございます。\n合わせてお参りください。\n※ こち
 らは参加費が必要です。詳しくはホームページをご覧
 ください。
ATTACH;FMTTYPE=image/jpeg:https://kekokai.or.jp/wp-content/uploads/2024/10
 /default-eyecatch.png
END:VEVENT
BEGIN:VTIMEZONE
TZID:Asia/Tokyo
X-LIC-LOCATION:Asia/Tokyo
BEGIN:STANDARD
DTSTART:20250503T000000
TZOFFSETFROM:+0900
TZOFFSETTO:+0900
TZNAME:JST
END:STANDARD
END:VTIMEZONE
END:VCALENDAR