BEGIN:VCALENDAR
VERSION:2.0
PRODID:-//wp-events-plugin.com//7.1.2//EN
TZID:Asia/Tokyo
X-WR-TIMEZONE:Asia/Tokyo
BEGIN:VEVENT
UID:177@kekokai.or.jp
DTSTART;TZID=Asia/Tokyo;VALUE=DATE:20260621
DTEND;TZID=Asia/Tokyo;VALUE=DATE:20260622
DTSTAMP:20251123T133940Z
URL:https://kekokai.or.jp/events/%e4%ba%ac%e9%83%bd%e6%94%af%e9%83%a8%e6%b
 3%95%e5%ba%a7-9/
SUMMARY:京都支部法座
DESCRIPTION:12:00 AM - 
ATTACH;FMTTYPE=image/jpeg:https://kekokai.or.jp/wp-content/uploads/2024/10
 /default-eyecatch.png
END:VEVENT
BEGIN:VTIMEZONE
TZID:Asia/Tokyo
X-LIC-LOCATION:Asia/Tokyo
BEGIN:STANDARD
DTSTART:20250621T000000
TZOFFSETFROM:+0900
TZOFFSETTO:+0900
TZNAME:JST
END:STANDARD
END:VTIMEZONE
END:VCALENDAR