BEGIN:VCALENDAR
VERSION:2.0
PRODID:-//wp-events-plugin.com//7.1.2//EN
TZID:Asia/Tokyo
X-WR-TIMEZONE:Asia/Tokyo
BEGIN:VEVENT
UID:190@kekokai.or.jp
DTSTART;TZID=Asia/Tokyo;VALUE=DATE:20251227
DTEND;TZID=Asia/Tokyo;VALUE=DATE:20251228
DTSTAMP:20251202T125143Z
URL:https://kekokai.or.jp/events/%e4%bb%8f%e6%9b%b8%e3%81%ab%e8%a6%aa%e3%8
 1%97%e3%82%80%e4%bc%9a-15/
SUMMARY:仏書に親しむ会
DESCRIPTION:12:00 AM - 【行事名】仏書に親しむ会\n\n【日　時
 】１２月２７日（土）１３：３０～１６：３０\n\n【場
 　所】華光会館\n\n【講　師】増井信師\n\n【参加資格／
 定員】 どなたでもお参り下さい。\n\n【参加費】同人：
 １０００円、誌友：１５００円　25歳以下のユース：無
 料\n\n【内　容】「身命より大切なもの」①（11月5日発
 行）\n\n【備　考】\n⑴第1回目です。「身命より大切な
 もの」をご持参ください。\n⑵ Zoom配信あり（参加費1000
 円）Zoom専用申込アドレス（keko18kouzen@gmail.com）\nまでお
 申し込みください。
ATTACH;FMTTYPE=image/jpeg:https://kekokai.or.jp/wp-content/uploads/2024/10
 /default-eyecatch.png
LOCATION:華光会館\, 〒601-8433　京都市南区西九条東柳の内
 町22\, 電話：075-691-5241\, 日本
X-APPLE-STRUCTURED-LOCATION;VALUE=URI;X-ADDRESS=〒601-8433　京都市南
 区西九条東柳の内町22\, 電話：075-691-5241\, 日本;X-APPLE-RAD
 IUS=100;X-TITLE=華光会館:geo:0,0
END:VEVENT
BEGIN:VTIMEZONE
TZID:Asia/Tokyo
X-LIC-LOCATION:Asia/Tokyo
BEGIN:STANDARD
DTSTART:20241227T000000
TZOFFSETFROM:+0900
TZOFFSETTO:+0900
TZNAME:JST
END:STANDARD
END:VTIMEZONE
END:VCALENDAR