BEGIN:VCALENDAR
VERSION:2.0
PRODID:-//wp-events-plugin.com//7.1.2//EN
TZID:Asia/Tokyo
X-WR-TIMEZONE:Asia/Tokyo
BEGIN:VEVENT
UID:191@kekokai.or.jp
DTSTART;TZID=Asia/Tokyo;VALUE=DATE:20260111
DTEND;TZID=Asia/Tokyo;VALUE=DATE:20260112
DTSTAMP:20251221T043334Z
URL:https://kekokai.or.jp/events/%e4%bb%8f%e6%9b%b8%e3%81%ab%e8%a6%aa%e3%8
 1%97%e3%82%80%e4%bc%9a-16/
SUMMARY:仏書に親しむ会
DESCRIPTION:12:00 AM - 【行事名】仏書に親しむ会\n\n【日　時
 】１月１１日（日）午前１０：００～１２：００\n\n【
 場　所】華光会館\n\n【講　師】増井信師\n\n【参加資格
 ／定員】 どなたでもお参り下さい。\n\n【参加費】同人
 ：500円、誌友：1000円　25歳以下のユース：無料\n\n【内
 　容】「身命より大切なもの」（２）\n\n【備　考】\n
 ⑴「身命より大切なもの」をご持参ください。（1冊1500
 円）\n⑵ Zoom配信あり（参加費500円）Zoom専用申込アドレ
 ス（keko18kouzen@gmail.com）\nまでお申し込みください。（
 締切：１月９日(金)）\n⑶午後１:３０より、華光誌輪読
 法座が開かれます。引き続きお参りください。
ATTACH;FMTTYPE=image/jpeg:https://kekokai.or.jp/wp-content/uploads/2024/10
 /default-eyecatch.png
LOCATION:華光会館\, 〒601-8433　京都市南区西九条東柳の内
 町22\, 電話：075-691-5241\, 日本
X-APPLE-STRUCTURED-LOCATION;VALUE=URI;X-ADDRESS=〒601-8433　京都市南
 区西九条東柳の内町22\, 電話：075-691-5241\, 日本;X-APPLE-RAD
 IUS=100;X-TITLE=華光会館:geo:0,0
END:VEVENT
BEGIN:VTIMEZONE
TZID:Asia/Tokyo
X-LIC-LOCATION:Asia/Tokyo
BEGIN:STANDARD
DTSTART:20250111T000000
TZOFFSETFROM:+0900
TZOFFSETTO:+0900
TZNAME:JST
END:STANDARD
END:VTIMEZONE
END:VCALENDAR