BEGIN:VCALENDAR
VERSION:2.0
PRODID:-//wp-events-plugin.com//7.1.2//EN
TZID:Asia/Tokyo
X-WR-TIMEZONE:Asia/Tokyo
BEGIN:VEVENT
UID:176@kekokai.or.jp
DTSTART;TZID=Asia/Tokyo;VALUE=DATE:20260620
DTEND;TZID=Asia/Tokyo;VALUE=DATE:20260622
DTSTAMP:20251123T133917Z
URL:https://kekokai.or.jp/events/%e4%bb%8f%e9%9d%92%e7%a0%94%e4%bf%ae%e4%b
 c%9a/
SUMMARY:仏青研修会
DESCRIPTION:12:00 AM - 
ATTACH;FMTTYPE=image/jpeg:https://kekokai.or.jp/wp-content/uploads/2024/10
 /default-eyecatch.png
END:VEVENT
BEGIN:VTIMEZONE
TZID:Asia/Tokyo
X-LIC-LOCATION:Asia/Tokyo
BEGIN:STANDARD
DTSTART:20250620T000000
TZOFFSETFROM:+0900
TZOFFSETTO:+0900
TZNAME:JST
END:STANDARD
END:VTIMEZONE
END:VCALENDAR