BEGIN:VCALENDAR
VERSION:2.0
PRODID:-//wp-events-plugin.com//7.1.2//EN
TZID:Asia/Tokyo
X-WR-TIMEZONE:Asia/Tokyo
BEGIN:VEVENT
UID:182@kekokai.or.jp
DTSTART;TZID=Asia/Tokyo;VALUE=DATE:20260705
DTEND;TZID=Asia/Tokyo;VALUE=DATE:20260706
DTSTAMP:20251123T134329Z
URL:https://kekokai.or.jp/events/%e5%a4%a7%e9%98%aa%e6%94%af%e9%83%a8%e6%b
 3%95%e5%ba%a7-5/
SUMMARY:大阪支部法座（検討中）
DESCRIPTION:12:00 AM - 
ATTACH;FMTTYPE=image/jpeg:https://kekokai.or.jp/wp-content/uploads/2024/10
 /default-eyecatch.png
END:VEVENT
BEGIN:VTIMEZONE
TZID:Asia/Tokyo
X-LIC-LOCATION:Asia/Tokyo
BEGIN:STANDARD
DTSTART:20250705T000000
TZOFFSETFROM:+0900
TZOFFSETTO:+0900
TZNAME:JST
END:STANDARD
END:VTIMEZONE
END:VCALENDAR