BEGIN:VCALENDAR
VERSION:2.0
PRODID:-//wp-events-plugin.com//7.1.2//EN
TZID:Asia/Tokyo
X-WR-TIMEZONE:Asia/Tokyo
BEGIN:VEVENT
UID:193@kekokai.or.jp
DTSTART;TZID=Asia/Tokyo;VALUE=DATE:20261017
DTEND;TZID=Asia/Tokyo;VALUE=DATE:20261019
DTSTAMP:20251231T031536Z
URL:https://kekokai.or.jp/events/%e5%ba%83%e5%b3%b6%e6%94%af%e9%83%a8%e3%8
 3%bb%e4%bb%8f%e9%9d%92%e5%90%88%e5%90%8c%e6%b3%95%e5%ba%a7/
SUMMARY:広島支部・仏青合同法座
DESCRIPTION:12:00 AM - 【日　時】\n10月17日（土）～18日（日
 ）\n\n【場　所】\n神田山荘\n広島市東区牛田新町1-16-1\n
 電話 082-228-7311\n\n【問い合わせ】\nサガタ 090-6432-3721\n\n
 【備　考】\n詳細は決まり次第、お知らせいたします。
ATTACH;FMTTYPE=image/jpeg:https://kekokai.or.jp/wp-content/uploads/2024/10
 /default-eyecatch.png
END:VEVENT
BEGIN:VTIMEZONE
TZID:Asia/Tokyo
X-LIC-LOCATION:Asia/Tokyo
BEGIN:STANDARD
DTSTART:20251017T000000
TZOFFSETFROM:+0900
TZOFFSETTO:+0900
TZNAME:JST
END:STANDARD
END:VTIMEZONE
END:VCALENDAR