BEGIN:VCALENDAR
VERSION:2.0
PRODID:-//wp-events-plugin.com//7.1.2//EN
TZID:Asia/Tokyo
X-WR-TIMEZONE:Asia/Tokyo
BEGIN:VEVENT
UID:184@kekokai.or.jp
DTSTART;TZID=Asia/Tokyo;VALUE=DATE:20260718
DTEND;TZID=Asia/Tokyo;VALUE=DATE:20260720
DTSTAMP:20251123T134302Z
URL:https://kekokai.or.jp/events/%e5%ba%83%e5%b3%b6%e6%94%af%e9%83%a8%e5%a
 4%a7%e4%bc%9a%ef%bc%88%e6%a4%9c%e8%a8%8e%e4%b8%ad%ef%bc%89/
SUMMARY:広島支部大会（検討中）
DESCRIPTION:12:00 AM - 
ATTACH;FMTTYPE=image/jpeg:https://kekokai.or.jp/wp-content/uploads/2024/10
 /default-eyecatch.png
END:VEVENT
BEGIN:VTIMEZONE
TZID:Asia/Tokyo
X-LIC-LOCATION:Asia/Tokyo
BEGIN:STANDARD
DTSTART:20250718T000000
TZOFFSETFROM:+0900
TZOFFSETTO:+0900
TZNAME:JST
END:STANDARD
END:VTIMEZONE
END:VCALENDAR