BEGIN:VCALENDAR
VERSION:2.0
PRODID:-//wp-events-plugin.com//7.1.2//EN
TZID:Asia/Tokyo
X-WR-TIMEZONE:Asia/Tokyo
BEGIN:VEVENT
UID:195@kekokai.or.jp
DTSTART;TZID=Asia/Tokyo;VALUE=DATE:20260314
DTEND;TZID=Asia/Tokyo;VALUE=DATE:20260315
DTSTAMP:20251231T031504Z
URL:https://kekokai.or.jp/events/%e5%ba%83%e5%b3%b6%e6%94%af%e9%83%a8%e6%b
 3%95%e5%ba%a7-8/
SUMMARY:広島支部法座
DESCRIPTION:12:00 AM - 【日 時】\n3月14日（土） 13:00～17:00\n\n
 【講 師】\n増井　信師\n\n【場 所】\n荒神集会所\n広島
 市南区西蟹屋3丁目15-15\n荒神保育園2階\n\n※会場は変更
 する可能性もあります。\n参加申込時に問い合わせ先ま
 で確認ください。\n\n【参加費】\n3\,500円\n\n【問い合わ
 せ】\nサガタ 090-6432-3721
ATTACH;FMTTYPE=image/jpeg:https://kekokai.or.jp/wp-content/uploads/2024/10
 /default-eyecatch.png
LOCATION:荒神集会所\, 〒732-0804 \, 広島県広島市南区西蟹屋
 ３丁目１５−１５\, 日本
X-APPLE-STRUCTURED-LOCATION;VALUE=URI;X-ADDRESS=〒732-0804 \, 広島県広
 島市南区西蟹屋３丁目１５−１５\, 日本;X-APPLE-RADIUS=100;
 X-TITLE=荒神集会所:geo:0,0
END:VEVENT
BEGIN:VTIMEZONE
TZID:Asia/Tokyo
X-LIC-LOCATION:Asia/Tokyo
BEGIN:STANDARD
DTSTART:20250314T000000
TZOFFSETFROM:+0900
TZOFFSETTO:+0900
TZNAME:JST
END:STANDARD
END:VTIMEZONE
END:VCALENDAR