BEGIN:VCALENDAR
VERSION:2.0
PRODID:-//wp-events-plugin.com//7.1.2//EN
TZID:Asia/Tokyo
X-WR-TIMEZONE:Asia/Tokyo
BEGIN:VEVENT
UID:175@kekokai.or.jp
DTSTART;TZID=Asia/Tokyo;VALUE=DATE:20260613
DTEND;TZID=Asia/Tokyo;VALUE=DATE:20260615
DTSTAMP:20251123T133852Z
URL:https://kekokai.or.jp/events/%e6%94%af%e9%83%a8%e9%95%b7%e7%a0%94%e4%b
 f%ae%e4%bc%9a-2/
SUMMARY:支部長研修会
DESCRIPTION:12:00 AM - 
ATTACH;FMTTYPE=image/jpeg:https://kekokai.or.jp/wp-content/uploads/2024/10
 /default-eyecatch.png
LOCATION:華光会館\, 〒601-8433　京都市南区西九条東柳の内
 町22\, 電話：075-691-5241\, 日本
X-APPLE-STRUCTURED-LOCATION;VALUE=URI;X-ADDRESS=〒601-8433　京都市南
 区西九条東柳の内町22\, 電話：075-691-5241\, 日本;X-APPLE-RAD
 IUS=100;X-TITLE=華光会館:geo:0,0
END:VEVENT
BEGIN:VTIMEZONE
TZID:Asia/Tokyo
X-LIC-LOCATION:Asia/Tokyo
BEGIN:STANDARD
DTSTART:20250613T000000
TZOFFSETFROM:+0900
TZOFFSETTO:+0900
TZNAME:JST
END:STANDARD
END:VTIMEZONE
END:VCALENDAR