BEGIN:VCALENDAR
VERSION:2.0
PRODID:-//wp-events-plugin.com//7.1.2//EN
TZID:Asia/Tokyo
X-WR-TIMEZONE:Asia/Tokyo
BEGIN:VEVENT
UID:171@kekokai.or.jp
DTSTART;TZID=Asia/Tokyo;VALUE=DATE:20260523
DTEND;TZID=Asia/Tokyo;VALUE=DATE:20260525
DTSTAMP:20260412T051330Z
URL:https://kekokai.or.jp/events/%e6%97%a5%e9%ab%98%e6%94%af%e9%83%a8%e6%b
 3%95%e5%ba%a7-2/
SUMMARY:日高支部法座
DESCRIPTION:12:00 AM - 【日時】\n5月23日(土) 支部長宅\n昼座：
 13時30分より16時まで\n18時～19時夕食\n夜座：19時～21時\n
 その後23時30分まで懇親会\n\n5月24日(日) 日高同人宅\n朝
 座：10時～12時\n昼座：13時30分～16時30分\n\n【定員】\n10
 名程度\n\n【会場最寄り駅】\n23日：JR豊岡駅　同人宅\n24
 日：JR江原駅　同人宅\n\n【問い合わせ先】\ngarasyanaoko@gm
 ail.com\n\n【会費】\n2\,000円\nその他先生にご懇志をお願
 いします\n予定は変更になることがあります\n\n以上よ
 ろしくお願いします
ATTACH;FMTTYPE=image/jpeg:https://kekokai.or.jp/wp-content/uploads/2024/10
 /default-eyecatch.png
END:VEVENT
BEGIN:VTIMEZONE
TZID:Asia/Tokyo
X-LIC-LOCATION:Asia/Tokyo
BEGIN:STANDARD
DTSTART:20250523T000000
TZOFFSETFROM:+0900
TZOFFSETTO:+0900
TZNAME:JST
END:STANDARD
END:VTIMEZONE
END:VCALENDAR