BEGIN:VCALENDAR
VERSION:2.0
PRODID:-//wp-events-plugin.com//7.1.2//EN
TZID:Asia/Tokyo
X-WR-TIMEZONE:Asia/Tokyo
BEGIN:VEVENT
UID:166@kekokai.or.jp
DTSTART;TZID=Asia/Tokyo;VALUE=DATE:20260411
DTEND;TZID=Asia/Tokyo;VALUE=DATE:20260413
DTSTAMP:20260308T233034Z
URL:https://kekokai.or.jp/events/%e6%9d%b1%e4%ba%ac%e6%94%af%e9%83%a8%e6%b
 3%95%e5%ba%a7-9/
SUMMARY:東京支部法座
DESCRIPTION:12:00 AM - \n\n\n世界情勢も　明日の運勢も　年末
 まで結構近いなとかも\nすべて邪魔！　散歩の邪魔　晴
 れたら雑誌を置こう　あなたがカーテンなら　あたし
 は春風だよ\nあなたが頷くなら　あたしは散歩がしたい
 んだよ\nそれ以外は邪魔！　愛すべき邪魔　晴れたら雑
 誌を置こう　あなたがイヤホンなら　あたしは音楽だ
 よ\n―『散歩の邪魔』 / いよわ…宗教的な人生の見方は
 、その反対の態度を執る。いわゆる万法に証せられる
 自己である。聖教に対しても、吾々は自己をもって聖
 教を読もうとせず、聖教をもって自己を読むべきであ
 る。（『真宗安心一隻眼』）\n\n生活や世間のことでは
 、こんな私でも(？)色々と弁(わきま)えたつもりで暮ら
 しています。仏法のことでも、一人ひとり弁えたもの
 があるように思います。さっぱりわからん、少しわか
 る、まだ遠慮しておこう、もう諦めたい、いや私は泣
 いて喜んでいますとか…。ほんとうにすべて邪魔！　
 でも私にとっては愛すべき邪魔です。\n全てを剥ぎ取ら
 れた真実の私の姿を教えていただき、そこひとつを聞
 き合い、尋ね合いましょう。\n（世話人　スズキ）\n\n
 １、日時\n令和8年\n4月11日(土) 13:30～16:30　17:00～19:00\n4
 月12日(日) 10:00～12:00　13:30～16:30\n\n２、会場\nJR新木場
 駅が最寄りの会場です。\n詳細はお申し込みいただいた
 方に個別にご連絡します。\n※ZOOMでの視聴も可能です
 。遠方のみなさまも、ぜひご参加ください。\n\n３、講
 師　増 井 信 先生\n\n４、参加資格　ありません。どな
 たでもお参りください。\n\n５、参加費\nご法座参加費(
 初参加の方は無料です)\n一座のみ：２千円　一日間（
 二座）：３千円　二日間（四座）：５千円\nZOOM参加　
 １日1\,500円\n※ ご懇志と合わせ事前振込をお願いいた
 します（当日はお賽銭を集めません）\n※事前振込をお
 願いします。\n※当日、お賽銭を集めません。法座参加
 費に合わせてお振込みください。\n\n６、食事\n初日（4/
 11土）法座後は有志で懇親会を計画しています。\n2日目
 の会場内食堂での昼食（ランチバイキング １名1\,500円
 ）は取りまとめて予約いたします。\n申込み時に、懇親
 会参加の意向と、２日目の昼食希望の有無をお知らせ
 ください。\n\n７、受付(申込み)　電話又はメールにて
 承ります。\nメール ： マツイ　gleed550424@gmail.com\n電話
 　 ： タナカ　 045-542-8604\n\n８、参加にあたっての注意\
 n・会場施設は満室のため、宿泊は各自にて手配をお願
 いいたします。\n\n９、ご法座の日程\n4月11日(土)　　　
 　　　　　　　　　　 　 4月12日(日)\n13：30～16：30 法
 座・座談　　 　　　　 　10：00～12：00 法座・座談\n16
 ：30～17：00 休憩　　　　　　　　　　 12：00～13：30 昼
 食・休憩\n17：00～19：00 法座・座談　　　　　　　　13
 ：30～16：30 法座・座談\n\n※スケジュールは当日若干の
 変更の可能性があります。\n\n以上\n\n\n\n\n\n\n\n\n\n\n\n\n\n
ATTACH;FMTTYPE=image/jpeg:https://kekokai.or.jp/wp-content/uploads/2024/10
 /default-eyecatch.png
END:VEVENT
BEGIN:VTIMEZONE
TZID:Asia/Tokyo
X-LIC-LOCATION:Asia/Tokyo
BEGIN:STANDARD
DTSTART:20250411T000000
TZOFFSETFROM:+0900
TZOFFSETTO:+0900
TZNAME:JST
END:STANDARD
END:VTIMEZONE
END:VCALENDAR