BEGIN:VCALENDAR
VERSION:2.0
PRODID:-//wp-events-plugin.com//7.1.2//EN
TZID:Asia/Tokyo
X-WR-TIMEZONE:Asia/Tokyo
BEGIN:VEVENT
UID:172@kekokai.or.jp
DTSTART;TZID=Asia/Tokyo;VALUE=DATE:20260527
DTEND;TZID=Asia/Tokyo;VALUE=DATE:20260528
DTSTAMP:20260412T040136Z
URL:https://kekokai.or.jp/events/%e6%9d%b1%e6%b5%b7%e6%94%af%e9%83%a8%e6%b
 3%95%e5%ba%a7-8/
SUMMARY:東海支部法座
DESCRIPTION:12:00 AM - 1. 日時\n5月27日（水） 13:30～16:30（ご法
 話、座談会）\n\n2．場所\n日本特殊陶業市民会館\n第2会
 議室\n〒460-0022 愛知県名古屋市中区金山一丁目5番1号\nTE
 L : 052-331-2141\nFAX : 052-322-7217\n\n3．講師\n増井 信 師\n\n4．
 参加資格／定員\nどなたでもお参りください／定員25名\
 n\n5. Zoom配信の有無\nZoom配信無し\n\n6．参加費\n参加費：
 2000円 初めての方は参加費無料です。\n\n7．連絡先\nヤ
 マグチ TEL：090-6009-6137\nMAIL：masa20masa09masa@gmail.com\n\n8. 交
 通案内\nJR 名鉄 地下鉄 金山駅から徒歩5分\n〒460-0022 愛
 知県名古屋市中区金山一丁目5番1号\nTEL : 052-331-2141\nFAX :
  052-322-7217\nhttps://nagoya-shimin.hall-info.jp/kaikan/access.html\n\n9
 ．備考\nお持ちの方は、緑の礼拝聖典とお念珠をご持参
 ください。
ATTACH;FMTTYPE=image/jpeg:https://kekokai.or.jp/wp-content/uploads/2024/10
 /default-eyecatch.png
END:VEVENT
BEGIN:VTIMEZONE
TZID:Asia/Tokyo
X-LIC-LOCATION:Asia/Tokyo
BEGIN:STANDARD
DTSTART:20250527T000000
TZOFFSETFROM:+0900
TZOFFSETTO:+0900
TZNAME:JST
END:STANDARD
END:VTIMEZONE
END:VCALENDAR