BEGIN:VCALENDAR
VERSION:2.0
PRODID:-//wp-events-plugin.com//7.1.2//EN
TZID:Asia/Tokyo
X-WR-TIMEZONE:Asia/Tokyo
BEGIN:VEVENT
UID:179@kekokai.or.jp
DTSTART;TZID=Asia/Tokyo;VALUE=DATE:20260627
DTEND;TZID=Asia/Tokyo;VALUE=DATE:20260628
DTSTAMP:20251123T134028Z
URL:https://kekokai.or.jp/events/%e7%a6%8f%e4%ba%95%e6%9c%89%e5%bf%97%e6%b
 3%95%e5%ba%a7-2/
SUMMARY:福井有志法座
DESCRIPTION:12:00 AM - 
ATTACH;FMTTYPE=image/jpeg:https://kekokai.or.jp/wp-content/uploads/2024/10
 /default-eyecatch.png
END:VEVENT
BEGIN:VTIMEZONE
TZID:Asia/Tokyo
X-LIC-LOCATION:Asia/Tokyo
BEGIN:STANDARD
DTSTART:20250627T000000
TZOFFSETFROM:+0900
TZOFFSETTO:+0900
TZNAME:JST
END:STANDARD
END:VTIMEZONE
END:VCALENDAR