BEGIN:VCALENDAR
VERSION:2.0
PRODID:-//wp-events-plugin.com//7.1.2//EN
TZID:Asia/Tokyo
X-WR-TIMEZONE:Asia/Tokyo
BEGIN:VEVENT
UID:180@kekokai.or.jp
DTSTART;TZID=Asia/Tokyo;VALUE=DATE:20260628
DTEND;TZID=Asia/Tokyo;VALUE=DATE:20260629
DTSTAMP:20251123T134050Z
URL:https://kekokai.or.jp/events/%e8%81%96%e5%85%b8%e8%ac%9b%e5%ba%a7-16/
SUMMARY:聖典講座
DESCRIPTION:12:00 AM - 
ATTACH;FMTTYPE=image/jpeg:https://kekokai.or.jp/wp-content/uploads/2024/10
 /default-eyecatch.png
LOCATION:華光会館\, 〒601-8433　京都市南区西九条東柳の内
 町22\, 電話：075-691-5241\, 日本
X-APPLE-STRUCTURED-LOCATION;VALUE=URI;X-ADDRESS=〒601-8433　京都市南
 区西九条東柳の内町22\, 電話：075-691-5241\, 日本;X-APPLE-RAD
 IUS=100;X-TITLE=華光会館:geo:0,0
END:VEVENT
BEGIN:VTIMEZONE
TZID:Asia/Tokyo
X-LIC-LOCATION:Asia/Tokyo
BEGIN:STANDARD
DTSTART:20250628T000000
TZOFFSETFROM:+0900
TZOFFSETTO:+0900
TZNAME:JST
END:STANDARD
END:VTIMEZONE
END:VCALENDAR