BEGIN:VCALENDAR
VERSION:2.0
PRODID:-//wp-events-plugin.com//7.1.2//EN
TZID:Asia/Tokyo
X-WR-TIMEZONE:Asia/Tokyo
BEGIN:VEVENT
UID:202@kekokai.or.jp
DTSTART;TZID=Asia/Tokyo;VALUE=DATE:20260324
DTEND;TZID=Asia/Tokyo;VALUE=DATE:20260325
DTSTAMP:20260317T010012Z
URL:https://kekokai.or.jp/events/%e8%8f%af%e5%85%89%e8%aa%8c%e8%bc%aa%e8%a
 a%ad%e6%b3%95%e5%ba%a7-10/
SUMMARY:華光誌輪読法座
DESCRIPTION:12:00 AM - 【行事名】華光誌輪読法座\n\n【日　時
 】３月２４日（火）午後１：３０～４：３０\n\n【場　
 所】華光会館　３F研修室\n\n【講　師】増井信師\n\n【
 参加資格／定員】 どなたでもお参り下さい。\n\n【参加
 費】同人1\,000円　非同人1\,500円　25歳以下のユース：無
 料\n\n【内　容】「華光誌」85巻1号（新年号）の「誌上
 法話」を輪読いたします。\n\n【備　考】\n◆「華光誌
 」85巻1号」をご持参ください。\n　お持ちでない方は、
 華光誌をご購入ください。\n　※ 今月はZoom配信はござ
 いません。
ATTACH;FMTTYPE=image/jpeg:https://kekokai.or.jp/wp-content/uploads/2024/10
 /default-eyecatch.png
LOCATION:華光会館\, 〒601-8433　京都市南区西九条東柳の内
 町22\, 電話：075-691-5241\, 日本
X-APPLE-STRUCTURED-LOCATION;VALUE=URI;X-ADDRESS=〒601-8433　京都市南
 区西九条東柳の内町22\, 電話：075-691-5241\, 日本;X-APPLE-RAD
 IUS=100;X-TITLE=華光会館:geo:0,0
END:VEVENT
BEGIN:VTIMEZONE
TZID:Asia/Tokyo
X-LIC-LOCATION:Asia/Tokyo
BEGIN:STANDARD
DTSTART:20250324T000000
TZOFFSETFROM:+0900
TZOFFSETTO:+0900
TZNAME:JST
END:STANDARD
END:VTIMEZONE
END:VCALENDAR