BEGIN:VCALENDAR
VERSION:2.0
PRODID:-//wp-events-plugin.com//7.1.2//EN
TZID:Asia/Tokyo
X-WR-TIMEZONE:Asia/Tokyo
BEGIN:VEVENT
UID:192@kekokai.or.jp
DTSTART;TZID=Asia/Tokyo;VALUE=DATE:20260111
DTEND;TZID=Asia/Tokyo;VALUE=DATE:20260112
DTSTAMP:20251221T043443Z
URL:https://kekokai.or.jp/events/%e8%8f%af%e5%85%89%e8%aa%8c%e8%bc%aa%e8%a
 a%ad%e6%b3%95%e5%ba%a7-9/
SUMMARY:華光誌輪読法座
DESCRIPTION:12:00 AM - 【行事名】華光誌輪読法座\n\n【日　時
 】１月１１日（日）午後１：３０～４：３０\n\n【場　
 所】華光会館\n\n【講　師】増井信師\n\n【参加資格／定
 員】 どなたでもお参り下さい。\n\n【参加費】同人：1\,
 000円、誌友：1\,500円　25歳以下のユース：無料\n\n【内
 　容】「華光誌」85巻1号（新年号）の「巻頭言「聖教
 のこころ」輪読いたします。\n\n【備　考】\n⑴「「華
 光誌」85巻1号」をご持参ください。\nお持ちでない方は
 、華光誌をご購入ください。\n⑵今月は Zoom配信いたし
 ます（参加費500円）Zoom専用申込アドレス（keko18kouzen@gma
 il.com）\nまでお申し込みください。（締切：１月９日(
 金)）\n⑶午前中（10～12時）仏書に親しむ会を開催しま
 す。合わせてご参加ください。
ATTACH;FMTTYPE=image/jpeg:https://kekokai.or.jp/wp-content/uploads/2024/10
 /default-eyecatch.png
LOCATION:華光会館\, 〒601-8433　京都市南区西九条東柳の内
 町22\, 電話：075-691-5241\, 日本
X-APPLE-STRUCTURED-LOCATION;VALUE=URI;X-ADDRESS=〒601-8433　京都市南
 区西九条東柳の内町22\, 電話：075-691-5241\, 日本;X-APPLE-RAD
 IUS=100;X-TITLE=華光会館:geo:0,0
END:VEVENT
BEGIN:VTIMEZONE
TZID:Asia/Tokyo
X-LIC-LOCATION:Asia/Tokyo
BEGIN:STANDARD
DTSTART:20250111T000000
TZOFFSETFROM:+0900
TZOFFSETTO:+0900
TZNAME:JST
END:STANDARD
END:VTIMEZONE
END:VCALENDAR