BEGIN:VCALENDAR
VERSION:2.0
PRODID:-//wp-events-plugin.com//7.1.2//EN
TZID:Asia/Tokyo
X-WR-TIMEZONE:Asia/Tokyo
BEGIN:VEVENT
UID:189@kekokai.or.jp
DTSTART;TZID=Asia/Tokyo;VALUE=DATE:20251213
DTEND;TZID=Asia/Tokyo;VALUE=DATE:20251216
DTSTAMP:20251204T041836Z
URL:https://kekokai.or.jp/events/%e8%a5%bf%e5%85%89%e5%af%ba%e5%a0%b1%e6%8
 1%a9%e8%ac%9b/
SUMMARY:西光寺報恩講
DESCRIPTION:12:00 AM - 西光寺報恩講\n\n 	日　時：\n-１２月１
 ３日（土）午後１時・７時\n---------１４日（日）午前１
 ０時・午後１時・７時\n---------１５日（月）午前１０時
 \n 	場　所：兵庫県宍粟市山崎町御名190　西光寺\n 	電　
 話：　0790-62-0459\n 	講　師：　増井　信 師\n\n【備　考 
 】\n寺院への講師派遣法座です\n参詣にはお志しをお願
 いいたします。
ATTACH;FMTTYPE=image/jpeg:https://kekokai.or.jp/wp-content/uploads/2024/10
 /default-eyecatch.png
LOCATION:西光寺\, 〒671-2554　\, 兵庫県宍粟市山崎町御名190\
 , TEL：0790-62-0459\, 日本
X-APPLE-STRUCTURED-LOCATION;VALUE=URI;X-ADDRESS=〒671-2554　\, 兵庫県
 宍粟市山崎町御名190\, TEL：0790-62-0459\, 日本;X-APPLE-RADIUS=1
 00;X-TITLE=西光寺:geo:0,0
END:VEVENT
BEGIN:VTIMEZONE
TZID:Asia/Tokyo
X-LIC-LOCATION:Asia/Tokyo
BEGIN:STANDARD
DTSTART:20241213T000000
TZOFFSETFROM:+0900
TZOFFSETTO:+0900
TZNAME:JST
END:STANDARD
END:VTIMEZONE
END:VCALENDAR