BEGIN:VCALENDAR
VERSION:2.0
PRODID:-//wp-events-plugin.com//7.1.2//EN
TZID:Asia/Tokyo
X-WR-TIMEZONE:Asia/Tokyo
BEGIN:VEVENT
UID:170@kekokai.or.jp
DTSTART;TZID=Asia/Tokyo;VALUE=DATE:20260516
DTEND;TZID=Asia/Tokyo;VALUE=DATE:20260518
DTSTAMP:20251123T133422Z
URL:https://kekokai.or.jp/events/%e9%ab%98%e5%b1%b1%e6%94%af%e9%83%a8%e6%b
 3%95%e5%ba%a7-8/
SUMMARY:高山支部法座
DESCRIPTION:12:00 AM - 
ATTACH;FMTTYPE=image/jpeg:https://kekokai.or.jp/wp-content/uploads/2024/10
 /default-eyecatch.png
END:VEVENT
BEGIN:VTIMEZONE
TZID:Asia/Tokyo
X-LIC-LOCATION:Asia/Tokyo
BEGIN:STANDARD
DTSTART:20250516T000000
TZOFFSETFROM:+0900
TZOFFSETTO:+0900
TZNAME:JST
END:STANDARD
END:VTIMEZONE
END:VCALENDAR