BEGIN:VCALENDAR
VERSION:2.0
PRODID:-//wp-events-plugin.com//7.1.2//EN
TZID:Asia/Tokyo
X-WR-TIMEZONE:Asia/Tokyo
BEGIN:VEVENT
UID:183@kekokai.or.jp
DTSTART;TZID=Asia/Tokyo;VALUE=DATE:20260711
DTEND;TZID=Asia/Tokyo;VALUE=DATE:20260713
DTSTAMP:20260408T091252Z
URL:https://kekokai.or.jp/events/37sounen/
SUMMARY:壮年の集い
DESCRIPTION:12:00 AM - 第37回　壮年の集い\n\n三度の飯がうま
 くてたまらない働き盛りのみなさま、待ちに待った壮
 年の集いのご案内です。\n今年の集いは「なんでも話そ
 う、語り合おう！」をテーマに、たっぷり時間をかけ
 て語り合いたいと思います。\n心を開ける場所が、この
 集いです。\n聞いても聞いてもグルグル回ってばかりで
 なかなか阿弥陀さまのお心がいただけない方、完全に
 行き詰まってしまった方、そして「もう聞いたからい
 いや」と一人座り込んでしまっている方、そこにとど
 まらないでください。\n「誰の人も後生の一大事を心に
 かけて」ぜひご参加ください。お待ちしております。\n
 \n壮年の集い世話人　中川 醇誓\n~~~~~~~~~~~~~~~~~~~~~~~~~~~~~~
 ~~~~\nここから申し込む⇒ \n\n【プログラム】\n■7月11日
 （土）\n清掃/13時：受付/13時半：勤行・オリエンテーシ
 ョン/14時：全体会/15時20分：感話（大山・中川）/17時：
 夕食/19時：分級/21時30分：懇親会/24時\n\n■7月12日（日
 ）\n9時：勤行・ご法話・分級/12時：昼食/13時30分：分級
 /15時：全体会/16時30分：清掃\n【参加要項】\n◆日  時
 ：　令和８年7月11日(土)13時30分(受付13時)～7月12日(日)16
 時30分\n◇会  場：　華光会館　（京都市南区西九条東
 柳ノ内町22　近鉄十条駅・徒歩1分）\n◆講  師：　増井
 　信師（華光会代表）\n◇対  象：　３５～６５歳の方
 \n◆参加費：　一般＝9\,000円・同人8\,000円　（1日のみ
 　一般＝4\,500円・同人4\,000円）\n◇申込先：\n\n電話＝07
 5-691-5241　FAX＝0775-661-6398\n\nEメール＝support@kekokai.or.jp\n\n
 HP＝ここから申し込む⇒\n\n◆締切日：　７月４日（土
 ）\n◇宿  泊：　会館での宿泊も受付中(3\,000円)。　11(
 土)に懇親会があります。\n◆世話人：　中川　醇誓、
 正木　喜子\n◇幹　事：　　増井　ゆかり、山口　雅光
 \n ここから申し込む⇒ 
ATTACH;FMTTYPE=image/jpeg:https://kekokai.or.jp/wp-content/uploads/2024/10
 /default-eyecatch.png
LOCATION:華光会館\, 〒601-8433　京都市南区西九条東柳の内
 町22\, 電話：075-691-5241\, 日本
X-APPLE-STRUCTURED-LOCATION;VALUE=URI;X-ADDRESS=〒601-8433　京都市南
 区西九条東柳の内町22\, 電話：075-691-5241\, 日本;X-APPLE-RAD
 IUS=100;X-TITLE=華光会館:geo:0,0
END:VEVENT
BEGIN:VTIMEZONE
TZID:Asia/Tokyo
X-LIC-LOCATION:Asia/Tokyo
BEGIN:STANDARD
DTSTART:20250711T000000
TZOFFSETFROM:+0900
TZOFFSETTO:+0900
TZNAME:JST
END:STANDARD
END:VTIMEZONE
END:VCALENDAR