BEGIN:VCALENDAR
VERSION:2.0
PRODID:-//wp-events-plugin.com//7.1.2//EN
TZID:Asia/Tokyo
X-WR-TIMEZONE:Asia/Tokyo
BEGIN:VEVENT
UID:197@kekokai.or.jp
DTSTART;TZID=Asia/Tokyo;VALUE=DATE:20260228
DTEND;TZID=Asia/Tokyo;VALUE=DATE:20260302
DTSTAMP:20260215T035240Z
URL:https://kekokai.or.jp/events/r8koushukai/
SUMMARY:第50回華光講習会
DESCRIPTION:12:00 AM - \n『伝統と己証（こしょう）』\n~増井
 先生は伊藤先生から何を学んだか～\n伊藤康善先生のご
 教示は、増井悟朗先生へと面授口決され、具体的で、
 身近な例話となって華光同人に伝えられました。\n特に
 、求道・聞法における「機」の扱い（自分自身の内省
 ）に、華光の特色がよく顕われています。\n伊藤先生の
 『療養と求道』に説かれた、思業の内省、罪悪観と無
 常観の徹底、肯定的人生観から否定的人生観へ、「求
 め、捨て、転じる」、また真宗の安心の最難関である
 自他力廃立などを、増井先生は、どのようにご教授く
 ださったのか。\n増井先生の著書や、耳の底に残るお言
 葉をもとに尋ねてまいります。\n\n長年、自己中心的な
 聞法求道に陥っている方、ご法のお勧めで行き詰まっ
 ておられる方など、ぜひご参加頂きたいと念願してお
 ります。\nお待ちしております。\n合掌\n\n\n≡≡≡≡≡
 ≡≡≪行事内容≫≡≡≡≡≡≡≡\n◆日　時：令和８年
 ２月28日(土)13時30分(受付13時) ～３月１日(日)16時30分\n\n
 ◆【プログラム】\n◎2/28日（土）：\n｜受付｜13時半「
 勤行・講義①」17時｜「夕食」19時｜「講義②」21時半
 ｜「懇親会」0時半｜\n◎3/1日（日）：\n｜9時「勤行・
 講義③」12時｜「昼食」13時半｜「講義④・まとめ」16
 時半｜「清掃」｜\n※テキスト：　伊藤康善著『療養と
 求道』をご持参ください。(販売中 1\,200円)\n\n◆会　場
 ：　華光会館（京都市南区西九条東柳ノ内町22　近鉄十
 条駅・徒歩１分）\n◆講　師：　増井　信師（華光会代
 表）\n◆宿 泊： 会館での宿泊も若干名受付中(一泊3\,000
 円)。\n◆懇親会：28日(土)に懇親会があります。\n◆Zoom
 配信：法話はZoomでライブ配信を行います。\n≡≡≡≡
 ≡≡≡≪参加方法≫≡≡≡≡≡≡≡\n◆申し込み方法\n
 華光会館まで、電話、FAX、メール、HPからお申込みくだ
 さい。\n・ホームページから申し込む\n華光講習会に参
 加する⇒ \n・電話・FAX申込\n電話　075-691-5241　FAX　075-66
 1-6398\n・Eメール申込\nEメール：support@kekokai.or.jp\n・Zoom
 配信\n専用アドレス keko18kouzen@gmail.com にお問合せくださ
 い。\n※電話、FAX、メールで申し込まれる場合は、次の
 情報をお伝えください。\n（1）氏名（2）住所（3）電話
 （4）参加内容（5）参加区分：会員/一般/25歳以下（6）
 支払い方法\n\n◆申込〆切日\n２月21日(土)（若干名、当
 日参加も可能）\n≡≡≡≡≡≡≡≪参加費用≫≡≡≡≡
 ≡≡≡≡≡\n◆参加費：（１日のみは半額）\n同人：8\,0
 00円／一般：9\,000円／25歳以下：4\,000円\n\n◆支払い方法
 \nお支払いは、華光会館で直接お払いいただくか、事前
 に銀行口座か郵便振替でご入金ください。\nなお、銀行
 口座・郵便振替でご入金の場合は、ご入金後に華光会
 までご連絡ください。\n※合わせてご懇志を頂ければ幸
 いです。\n\n\n 	華光会館\n会館の事務局に直接お支払い
 ください。\n 	ゆうちょ銀行口座\n店名：一〇九（109）
 ｜当座預金｜口座番号：0026777\n 	郵便振替口座\n加入者
 ：ケコウカイ｜口座番号：0160-8-2677\n\n\n華光講習会に参
 加する⇒ 
ATTACH;FMTTYPE=image/jpeg:https://kekokai.or.jp/wp-content/uploads/2026/01
 /09a5cdb7c1a60ea85986b3d44e17cadd.jpg
LOCATION:華光会館\, 〒601-8433　京都市南区西九条東柳の内
 町22\, 電話：075-691-5241\, 日本
X-APPLE-STRUCTURED-LOCATION;VALUE=URI;X-ADDRESS=〒601-8433　京都市南
 区西九条東柳の内町22\, 電話：075-691-5241\, 日本;X-APPLE-RAD
 IUS=100;X-TITLE=華光会館:geo:0,0
END:VEVENT
BEGIN:VTIMEZONE
TZID:Asia/Tokyo
X-LIC-LOCATION:Asia/Tokyo
BEGIN:STANDARD
DTSTART:20250228T000000
TZOFFSETFROM:+0900
TZOFFSETTO:+0900
TZNAME:JST
END:STANDARD
END:VTIMEZONE
END:VCALENDAR